BEGIN:VCALENDAR
VERSION:2.0
PRODID:-//AquaCity Poprad Slovakia - ECPv6.15.12.2//NONSGML v1.0//EN
CALSCALE:GREGORIAN
METHOD:PUBLISH
X-WR-CALNAME:AquaCity Poprad Slovakia
X-ORIGINAL-URL:https://aquacity.sk/en/
X-WR-CALDESC:Events for AquaCity Poprad Slovakia
REFRESH-INTERVAL;VALUE=DURATION:PT1H
X-Robots-Tag:noindex
X-PUBLISHED-TTL:PT1H
BEGIN:VTIMEZONE
TZID:Europe/Bratislava
BEGIN:DAYLIGHT
TZOFFSETFROM:+0100
TZOFFSETTO:+0200
TZNAME:CEST
DTSTART:20220327T010000
END:DAYLIGHT
BEGIN:STANDARD
TZOFFSETFROM:+0200
TZOFFSETTO:+0100
TZNAME:CET
DTSTART:20221030T010000
END:STANDARD
BEGIN:DAYLIGHT
TZOFFSETFROM:+0100
TZOFFSETTO:+0200
TZNAME:CEST
DTSTART:20230326T010000
END:DAYLIGHT
BEGIN:STANDARD
TZOFFSETFROM:+0200
TZOFFSETTO:+0100
TZNAME:CET
DTSTART:20231029T010000
END:STANDARD
BEGIN:DAYLIGHT
TZOFFSETFROM:+0100
TZOFFSETTO:+0200
TZNAME:CEST
DTSTART:20240331T010000
END:DAYLIGHT
BEGIN:STANDARD
TZOFFSETFROM:+0200
TZOFFSETTO:+0100
TZNAME:CET
DTSTART:20241027T010000
END:STANDARD
BEGIN:DAYLIGHT
TZOFFSETFROM:+0100
TZOFFSETTO:+0200
TZNAME:CEST
DTSTART:20250330T010000
END:DAYLIGHT
BEGIN:STANDARD
TZOFFSETFROM:+0200
TZOFFSETTO:+0100
TZNAME:CET
DTSTART:20251026T010000
END:STANDARD
BEGIN:DAYLIGHT
TZOFFSETFROM:+0100
TZOFFSETTO:+0200
TZNAME:CEST
DTSTART:20260329T010000
END:DAYLIGHT
BEGIN:STANDARD
TZOFFSETFROM:+0200
TZOFFSETTO:+0100
TZNAME:CET
DTSTART:20261025T010000
END:STANDARD
END:VTIMEZONE
BEGIN:VEVENT
DTSTART;VALUE=DATE:20250418
DTEND;VALUE=DATE:20250422
DTSTAMP:20260425T172309
CREATED:20250331T112219Z
LAST-MODIFIED:20250401T135202Z
UID:23989-1744934400-1745279999@aquacity.sk
SUMMARY:Easter animation program
DESCRIPTION:Easter at AquaCity Poprad will bring a wave of joy\, relaxation\, and special moments for the whole family! You can look forward to a festive atmosphere in a setting full of comfort\, warm water\, and stunning views of the Tatras. Enjoy the Easter holidays to the fullest – with smiles\, relaxation\, and unforgettable experiences. At AquaCity\, holidays turn into memories that last.
URL:https://aquacity.sk/en/event/velkonocny-animacny-program/
ATTACH;FMTTYPE=image/jpeg:https://aquacity.sk/wp-content/uploads/2024/03/little-child-girl-with-easter-bunny-ears.jpg
END:VEVENT
BEGIN:VEVENT
DTSTART;TZID=Europe/Bratislava:20241206T140000
DTEND;TZID=Europe/Bratislava:20241208T200000
DTSTAMP:20260425T172309
CREATED:20241127T053731Z
LAST-MODIFIED:20241127T054124Z
UID:22904-1733493600-1733688000@aquacity.sk
SUMMARY:St. Nicholas weekend in AquaCity Poprad 6.12. - 8.12.2024
DESCRIPTION:Come and enjoy a unique St. Nicholas program in AquaCity Poprad full of fun for the whole family. You can look forward to meeting St. Nicholas\, the devil and the angel\, sweet surprises and a varied animation program for children. Create unforgettable experiences with us in the fairy-tale atmosphere of Christmas!
URL:https://aquacity.sk/en/event/mikulassky-vikend-v-aquacity-poprad/
ATTACH;FMTTYPE=image/jpeg:https://aquacity.sk/wp-content/uploads/2024/11/christmas-background-asset.jpg
END:VEVENT
BEGIN:VEVENT
DTSTART;TZID=Europe/Bratislava:20240831T130000
DTEND;TZID=Europe/Bratislava:20240901T160000
DTSTAMP:20260425T172309
CREATED:20240620T040311Z
LAST-MODIFIED:20240620T072810Z
UID:19346-1725109200-1725206400@aquacity.sk
SUMMARY:Summer program 31.8. - 1.9.2024
DESCRIPTION:31.8.2024 / SATURDAY\n13:00 FEARLESS POPRAD DANCE SCHOOL – Hip-hop dance performance with dance workshop for children. \n1.9.2024 / SUNDAY\n13:00 SCHOOL OF CHEMISTRY – Chemical reactions and experiments of Professor Hokus Pokus.\n15:00 CHILDREN’S MINIDISCO – PEPPA PIG \n  \n\n			\n				\n			\n			\n				\n			\n		\n\n 
URL:https://aquacity.sk/en/event/letny-program-31-8-1-9-2024/
LOCATION:AquaCity Poprad / outdoor stage
ATTACH;FMTTYPE=image/jpeg:https://aquacity.sk/wp-content/uploads/2024/06/9.Letny_program_AquaCity_2024_1920x1080_31_8_1_9.jpg
END:VEVENT
BEGIN:VEVENT
DTSTART;TZID=Europe/Bratislava:20240824T130000
DTEND;TZID=Europe/Bratislava:20240825T160000
DTSTAMP:20260425T172309
CREATED:20240620T035942Z
LAST-MODIFIED:20240620T073258Z
UID:19351-1724504400-1724601600@aquacity.sk
SUMMARY:Summer program 24.8. - 25.8.2024
DESCRIPTION:24.8.2024 / SATURDAY\n13:00 FS VAGONÁR – Folklore ensemble Vagonár\, dance performance and dance school. \n25.8.2024 / SUNDAY\n13:00 MR.BUBBLE– Folklore ensemble Vagonár\, dance performance and dance school.\n15:00 DETSKÁ MINI DISKO – BABY BOSS \n  \n\n			\n				\n			\n			\n				\n			\n		\n\n 
URL:https://aquacity.sk/en/event/letny-program-24-8-25-8-2024/
LOCATION:AquaCity Poprad / outdoor stage
ATTACH;FMTTYPE=image/jpeg:https://aquacity.sk/wp-content/uploads/2024/06/8.Letny_program_AquaCity_2024_1920x1080_24_25_8.jpg
END:VEVENT
BEGIN:VEVENT
DTSTART;TZID=Europe/Bratislava:20240817T130000
DTEND;TZID=Europe/Bratislava:20240818T160000
DTSTAMP:20260425T172309
CREATED:20240620T035508Z
LAST-MODIFIED:20240620T073458Z
UID:19354-1723899600-1723996800@aquacity.sk
SUMMARY:Summer program 17.8. -18.8.2024
DESCRIPTION:10.8.2024 / SATURDAY\n13:00 BLUE BROTHERS – Live sculptures – a special edition of Mirror Family in a unique blue colour. \n11.8.2024 / SUNDAY\n13:00 SRANDA BANDA AND MAGICIAN WOLF – Comedian ventriloquist performance with talking and unusual puppets.\n15:00 CHILDREN’S MINI DISCO – SONIC THE HEDGEHOG \n  \n\n			\n				\n			\n			\n				\n			\n		\n\n 
URL:https://aquacity.sk/en/event/letny-program-17-8-18-8-2024/
LOCATION:AquaCity Poprad / outdoor stage
ATTACH;FMTTYPE=image/jpeg:https://aquacity.sk/wp-content/uploads/2024/06/7.Letny_program_AquaCity_2024_1920x1080_17_18_8.jpg
END:VEVENT
BEGIN:VEVENT
DTSTART;TZID=Europe/Bratislava:20240810T130000
DTEND;TZID=Europe/Bratislava:20240811T160000
DTSTAMP:20260425T172309
CREATED:20240620T035254Z
LAST-MODIFIED:20240620T073804Z
UID:19357-1723294800-1723392000@aquacity.sk
SUMMARY:Summer program 10.8. - 11.8.2024
DESCRIPTION:10.8.2024 / SATURDAY\n13:00 BATIDA – An energetic drum show with a workshop. Rhythms inspired by Brazilian culture. \n11.8.2024 / SUNDAY\n13:00 VESELKA – Veselka is a friend of children who brings a music and entertainment\n15:00 CHILDREN’S MINI DISCO – PAW PATROL \n  \n\n			\n				\n			\n			\n				\n			\n		\n\n 
URL:https://aquacity.sk/en/event/letny-program-10-8-11-8-2024/
LOCATION:AquaCity Poprad / outdoor stage
ATTACH;FMTTYPE=image/jpeg:https://aquacity.sk/wp-content/uploads/2024/06/6.Letny_program_AquaCity_2024_1920x1080_10_11_8.jpg
END:VEVENT
BEGIN:VEVENT
DTSTART;TZID=Europe/Bratislava:20240803T130000
DTEND;TZID=Europe/Bratislava:20240804T160000
DTSTAMP:20260425T172309
CREATED:20240620T034833Z
LAST-MODIFIED:20240620T073636Z
UID:19363-1722690000-1722787200@aquacity.sk
SUMMARY:Summer program 3.8. - 4.8.2024
DESCRIPTION:3.8.2024 / SATURDAY\n13:00 ALIMAH FUSION – Theatre and dance performance\, international congress of witches. \n4.8.2024 / SUNDAY\n13:00 DOROTKA FROM FIDORKOVO – Dorotka comes from a country full of fun\, laughter and dance – from\n15:00 CHILDREN’S MINI DISCO – MICKEY MOUSE & MINNIE \n  \n\n			\n				\n			\n			\n				\n			\n		\n\n 
URL:https://aquacity.sk/en/event/letny-program-3-8-4-8-2024/
LOCATION:AquaCity Poprad / outdoor stage
ATTACH;FMTTYPE=image/jpeg:https://aquacity.sk/wp-content/uploads/2024/06/5.Letny_program_AquaCity_2024_1920x1080_3_4_8.jpg
END:VEVENT
BEGIN:VEVENT
DTSTART;TZID=Europe/Bratislava:20240727T130000
DTEND;TZID=Europe/Bratislava:20240728T160000
DTSTAMP:20260425T172309
CREATED:20240620T033741Z
LAST-MODIFIED:20240620T074003Z
UID:19366-1722085200-1722182400@aquacity.sk
SUMMARY:Summer program 27.7. - 28.7.2024
DESCRIPTION:27.7.2024 / SATURDAY\n13:00 DANCE SCHOOL ONE  – HIP HOP\, STREET JAZZ\, DANCE SHOW of a dance school with a workshop for children. \n28.7.2024 / SUNDAY\n13:00 TEO A LULU – Children’s programme how to take care of their health. Mascots Kung Fu Panda\, Squirrel\, Super Mario and Rabbit Nebojko\n15:00 CHILDREN’S MINI DISC – SUPER MARIO \n  \n\n			\n				\n			\n			\n				\n			\n		\n\n 
URL:https://aquacity.sk/en/event/letny-program-27-7-28-7-2024/
LOCATION:AquaCity Poprad / outdoor stage
ATTACH;FMTTYPE=image/jpeg:https://aquacity.sk/wp-content/uploads/2024/06/4.Letny_program_AquaCity_2024_1920x1080_27_28_7.jpg
END:VEVENT
BEGIN:VEVENT
DTSTART;TZID=Europe/Bratislava:20240720T130000
DTEND;TZID=Europe/Bratislava:20240721T160000
DTSTAMP:20260425T172309
CREATED:20240620T033245Z
LAST-MODIFIED:20240620T074114Z
UID:19369-1721480400-1721577600@aquacity.sk
SUMMARY:Summer program 20.7. - 21.7.2024
DESCRIPTION:20.7.2024 / SATURDAY\n13:00 DOMINIKA GORECKÁ – Musical performance consisting of singing and piano and the most famous hits. \n21.7.2024 / SUNDAY\n13:00 USMIEVANKA – UsmievAnka presents entertainment of various kinds for children – singing\,\n15:00 CHILDREN’S MINI DISCO – MADAGASCAR \n  \n\n			\n				\n			\n			\n				\n			\n		\n\n 
URL:https://aquacity.sk/en/event/letny-program-20-7-21-7-2024/
LOCATION:AquaCity Poprad / outdoor stage
ATTACH;FMTTYPE=image/jpeg:https://aquacity.sk/wp-content/uploads/2024/06/3.Letny_program_AquaCity_2024_1920x1080_20_21_7.jpg
END:VEVENT
BEGIN:VEVENT
DTSTART;TZID=Europe/Bratislava:20240713T130000
DTEND;TZID=Europe/Bratislava:20240714T160000
DTSTAMP:20260425T172309
CREATED:20240620T032620Z
LAST-MODIFIED:20240620T071754Z
UID:19372-1720875600-1720972800@aquacity.sk
SUMMARY:Summer program 13. - 14.7.2024
DESCRIPTION:13.7.2024 / SATURDAY\n13:00 JUDO KLUB CATSUDO POPRAD EEC – Demonstrations of a sports club in the martial arts of Judo. \n14.7.2024 / SUNDAY\n13:00 BALANCE BALLERINAS FROM THE BALANSE STUDIO – The grace and grandeur of dancing ballerinas from the Balanse Studio.\n15:00 CHILDREN’S MINI DISCO – THE Smurfs \n  \n\n			\n				\n			\n			\n				\n			\n		\n\n 
URL:https://aquacity.sk/en/event/letny-program-13-14-7-2024/
LOCATION:AquaCity Poprad / outdoor stage
ATTACH;FMTTYPE=image/jpeg:https://aquacity.sk/wp-content/uploads/2024/06/2.Letny_program_AquaCity_2024_1920x1080_13_14_7.jpg
END:VEVENT
BEGIN:VEVENT
DTSTART;TZID=Europe/Bratislava:20240705T100000
DTEND;TZID=Europe/Bratislava:20240707T180000
DTSTAMP:20260425T172309
CREATED:20240602T042332Z
LAST-MODIFIED:20240606T042405Z
UID:19101-1720173600-1720375200@aquacity.sk
SUMMARY:Birthday weekend in AquaCity Poprad 5.7. - 7.7.2024
DESCRIPTION:Birthday weekend in AquaCity Poprad 5.7. – 7.7.2024\n20 years of experiences and 20 years of fun \nDo not hesitate to come and celebrate the 20th birthday of AquaCity Poprad with us! We are waiting to welcome you with a rich programme that will please both young and old. An unforgettable birthday party throughout the weekend with an all-day animation programme with lots of competitions\, interesting activities\, dancing and attractions. The weekend from 5 July to 7 July 2024 will be full of fun and unforgettable experiences. \nProgramme: \n5 July\, 2024 (Friday) \n\nEvent group 4ka BAND: We will start our birthday with amazing music! The 4ka Band event group will make you dance and entertain you with its great hits.\nCOLOURFUL FOAM SHOW: Experience a unique colourful foam show where fun mixes with colourful bubbles and brings you a colourful experience.\nElsa and Frozen – Mini Disco with Mascots\n\n6 July\, 2024 (Saturday) \n\nChildren’s programme with DÚHALKA: Your children will be excited about the programme with their favourite Dúhalka. A smiling\, curious and courageous Dúhalka comes to you from the Land beyond the Rainbow. You will laugh\, sing\, dance and learn about the world around together.\nBeyonce Dance Show  – dance and music show\nElsa and Frozen – Mini Disco with Mascots\n\n7 July 2024 (Sunday) \n\nKRS MOVEMENT dance performance: The group known for their performance in Let’s Dance will amaze you with their dance numbers.\nTINA concert: Experience an unforgettable concert from the talented Tina\, who will whip up the atmosphere with her unforgettable hits.\nAutographing and taking photos with influencer JOVINEČKO: Meet popular influencer Jovinečko\, get his autograph and take a photo with him as a keepsake.\nModerator JANKO TRIBULA: The whole programme will be accompanied by your favourite moderator Janko Tribula\, who will ensure a great atmosphere and fun.\nBIRTHDAY RECORD with inflatable wheels: Join us and help us break the record in the number of people with inflatable wheels. Together we will create an unforgettable memory!\n\nIn addition\, you can look forward to a number of accompanying events and competitions\, gifts and surprises. All children will receive gifts\, so be sure not to miss this great opportunity for fun and celebration. \nBuy your tickets online at our e-shop or on-site. Do not hesitate to come and celebrate the 20th birthday of AquaCity Poprad with us! We are waiting to welcome you with a rich programme that will please both young and old. We are looking forward to hearing from you!
URL:https://aquacity.sk/en/event/birthday-weekend-in-aquacity-poprad/
LOCATION:AquaCity Poprad\, Športová 1397/1\, POPRAD\, 058 01\, Slovenská republika
ATTACH;FMTTYPE=image/jpeg:https://aquacity.sk/wp-content/uploads/2024/06/20_narodeniny_AquaCIty_1920x1080_2_11zon.jpg
END:VEVENT
BEGIN:VEVENT
DTSTART;TZID=Europe/Bratislava:20240329T140000
DTEND;TZID=Europe/Bratislava:20240401T203000
DTSTAMP:20260425T172309
CREATED:20240301T135300Z
LAST-MODIFIED:20240301T135300Z
UID:18476-1711720800-1712003400@aquacity.sk
SUMMARY:Veľkonočný program 29.3. - 1.4.2024
DESCRIPTION:Veľká Noc v Aquaparku prichádza s vlnou zábavy a nezabudnuteľných zážitkov pre celú rodinu! Pripravili sme pre vás bohatý animačný program\, ktorý rozžiari sviatky každému. Poďte s nami na cestu plnú zábavy\, relaxu a dobrodružstva.
URL:https://aquacity.sk/en/event/velkonocny-program-29-3-1-4-2024/
ATTACH;FMTTYPE=image/jpeg:https://aquacity.sk/wp-content/uploads/2024/03/little-child-girl-with-easter-bunny-ears.jpg
END:VEVENT
BEGIN:VEVENT
DTSTART;TZID=Europe/Bratislava:20231027T140000
DTEND;TZID=Europe/Bratislava:20231029T180000
DTSTAMP:20260425T172309
CREATED:20231002T181532Z
LAST-MODIFIED:20231002T181920Z
UID:16885-1698415200-1698602400@aquacity.sk
SUMMARY:Halloween program in AquaCity Poprad
DESCRIPTION:Autumn holidays and a spooky Halloween program in AquaCity Poprad. Become the ghosts of the Aquapark and enjoy the scariest fun.
URL:https://aquacity.sk/en/event/halloweensky-program-v-aquacity-poprad/
LOCATION:AquaCity Poprad\, Športová 1397/1\, POPRAD\, 058 01\, Slovenská republika
ATTACH;FMTTYPE=image/jpeg:https://aquacity.sk/wp-content/uploads/2023/10/halloween-pumpkin-scarecrow-wide-field-with-moon-scary-night.jpg
END:VEVENT
BEGIN:VEVENT
DTSTART;TZID=Europe/Bratislava:20230902T130000
DTEND;TZID=Europe/Bratislava:20230903T140000
DTSTAMP:20260425T172309
CREATED:20230606T173343Z
LAST-MODIFIED:20231013T050912Z
UID:16362-1693659600-1693749600@aquacity.sk
SUMMARY:Summer program 2.9. - 3.9.2023
DESCRIPTION:2. – 3. 9.2023 / SATURDAY – SUNDAY\n10:00 – 17:00 Mattel Weekend – Play zone with Barbie and Hot wheels toys where children use their childhood imagination \n3.9.2023 / SUNDAY\n15:00 SWAN PARTOL SHOW \n  \n 
URL:https://aquacity.sk/en/event/summer-program-2-9-3-9-2023/
LOCATION:AquaCity Poprad / outdoor stage
ATTACH;FMTTYPE=image/jpeg:https://aquacity.sk/wp-content/uploads/2023/06/AquaCity_obrazovky_Letny_program_2023_1920x1080_2.9.-3.9.-2023.jpg
END:VEVENT
BEGIN:VEVENT
DTSTART;TZID=Europe/Bratislava:20230826T130000
DTEND;TZID=Europe/Bratislava:20230827T140000
DTSTAMP:20260425T172309
CREATED:20230606T172855Z
LAST-MODIFIED:20230607T125422Z
UID:16358-1693054800-1693144800@aquacity.sk
SUMMARY:Summer program 26.8. - 27.8.2023
DESCRIPTION:26.8.2023 / SATURDAY\n13:00 Sligo the Clown – Interactive show of a 21st century clown. Juggling and magic performance \n27.8.2023 / SUNDAY\n13:00 Magic Show Peter Šesták – Magic show of the popular children’s magician\, magic\, magic and unforgettable tricks \n15:00 MIMONS \n  \n\n			\n				\n			\n			\n				\n			\n		\n\n 
URL:https://aquacity.sk/en/event/summer-program-26-8-27-8-2023/
LOCATION:AquaCity Poprad / outdoor stage
ATTACH;FMTTYPE=image/jpeg:https://aquacity.sk/wp-content/uploads/2023/06/AquaCity_obrazovky_Letny_program_2023_1920x1080_26.8.-27.8.-2023.jpg
END:VEVENT
BEGIN:VEVENT
DTSTART;TZID=Europe/Bratislava:20230819T130000
DTEND;TZID=Europe/Bratislava:20230820T140000
DTSTAMP:20260425T172309
CREATED:20230606T172422Z
LAST-MODIFIED:20230607T125123Z
UID:16354-1692450000-1692540000@aquacity.sk
SUMMARY:Summer program 19.8. - 20.8.2023
DESCRIPTION:19.8.2023 / SATURDAY\n13:00 Funny Banda and Magician Wolf – Comedy ventriloquist show with talking and unusual puppets \n20.8.2023 / SUNDAY\n13:00 Hugo the Dreamer – A favourite character from the show on TV RIK now TV JOJKO. A concert of funny and informative songs\n15:00 ICE KINGDOM
URL:https://aquacity.sk/en/event/summer-program-19-8-20-8-2023/
LOCATION:AquaCity Poprad / outdoor stage
ATTACH;FMTTYPE=image/jpeg:https://aquacity.sk/wp-content/uploads/2023/06/AquaCity_obrazovky_Letny_program_2023_1920x1080_19.8.-20.8.-2023-1.jpg
END:VEVENT
BEGIN:VEVENT
DTSTART;TZID=Europe/Bratislava:20230812T130000
DTEND;TZID=Europe/Bratislava:20230813T140000
DTSTAMP:20260425T172309
CREATED:20230606T171907Z
LAST-MODIFIED:20230607T124808Z
UID:16350-1691845200-1691935200@aquacity.sk
SUMMARY:Summer program 12.8. - 13.8.2023
DESCRIPTION:12.8.2023 / SATURDAY\n13:00 Fearless Crew – Hip hop dance performance with dance workshop for children \n13.8.2023 / SUNDAY\n15:00 Concert Miro Jaroš – YOUR MOST FAVOURITE (AMFIK TOUR) (concert at 3:00 p.m. in the summer complex entrance fee 15 EUR) Tickets on sale here\n15:00 ICE AGE \n  \n\n			\n				\n			\n		\n\n 
URL:https://aquacity.sk/en/event/summer-program-12-8-13-8-2023/
LOCATION:AquaCity Poprad / outdoor stage
ATTACH;FMTTYPE=image/jpeg:https://aquacity.sk/wp-content/uploads/2023/06/AquaCity_obrazovky_Letny_program_2023_1920x1080_12.8.-13.8.-2023.jpg
END:VEVENT
BEGIN:VEVENT
DTSTART;TZID=Europe/Bratislava:20230805T130000
DTEND;TZID=Europe/Bratislava:20230806T140000
DTSTAMP:20260425T172309
CREATED:20230606T170049Z
LAST-MODIFIED:20230607T124437Z
UID:16346-1691240400-1691330400@aquacity.sk
SUMMARY:Summer program 5.8. - 6.8.2023
DESCRIPTION:5.8.2023 / SATURDAY\n13:00 Mr. Bubble – Bubble show Small\, big and mega drum show \n6.8.2023 / SUNDAY\n13:00 Astro show – Portable planetarium. A fun and experiential form of programming from the world of space and the planets\n15:00 HELLO KITTY \n  \n\n			\n				\n			\n			\n				\n			\n		\n\n 
URL:https://aquacity.sk/en/event/summer-program-5-8-6-8-2023/
LOCATION:AquaCity Poprad / outdoor stage
ATTACH;FMTTYPE=image/jpeg:https://aquacity.sk/wp-content/uploads/2023/06/AquaCity_obrazovky_Letny_program_2023_1920x1080_5.8.-6.8.-2023.jpg
END:VEVENT
BEGIN:VEVENT
DTSTART;TZID=Europe/Bratislava:20230729T130000
DTEND;TZID=Europe/Bratislava:20230730T140000
DTSTAMP:20260425T172309
CREATED:20230607T041323Z
LAST-MODIFIED:20230607T124128Z
UID:16342-1690635600-1690725600@aquacity.sk
SUMMARY:Summer progam 29.7. - 30.7.2023
DESCRIPTION:29.7.2023 / SATURDAY\n13:00 Theatre from the Hat School of Magic and Magic – Academy of magic and spells\, Harry Potter magic lessons and tricks \n30.7.2023 / SUNDAY\n13:00 Fyodor the Jester – Show full of megatricks and humour. Magician\, juggler\, clown\, stilt walker and professional entertainer\n15:00 TOM & JERRY \n  \n\n			\n				\n			\n			\n				\n			\n		\n\n 
URL:https://aquacity.sk/en/event/summer-proga-29-7-30-7-2023/
LOCATION:AquaCity Poprad / outdoor stage
ATTACH;FMTTYPE=image/jpeg:https://aquacity.sk/wp-content/uploads/2023/06/AquaCity_obrazovky_Letny_program_2023_1920x1080_29.7.-30.7.-2023.jpg
END:VEVENT
BEGIN:VEVENT
DTSTART;TZID=Europe/Bratislava:20230722T130000
DTEND;TZID=Europe/Bratislava:20230723T140000
DTSTAMP:20260425T172309
CREATED:20230606T165407Z
LAST-MODIFIED:20230607T123833Z
UID:16338-1690030800-1690120800@aquacity.sk
SUMMARY:Summer program 22.7. - 23.7.2023
DESCRIPTION:22.7.2023 / SATURDAY\n13:00 Dorothy of Fidorkov – Dorothy comes from a magical land full of fun\, laughter and dancing – Fidorkov \n23.7.2023 / SUNDAY\n13:00 Maliny Jam – A fun and cheerful concert for children by musicians known from TV Jojko and TVLALA \n15:00 MICKEY MOUSE & MINNIE \n  \n\n			\n				\n			\n			\n				\n			\n		\n\n 
URL:https://aquacity.sk/en/event/summer-program-22-7-23-7-2023/
LOCATION:AquaCity Poprad / outdoor stage
ATTACH;FMTTYPE=image/jpeg:https://aquacity.sk/wp-content/uploads/2023/06/AquaCity_obrazovky_Letny_program_2023_1920x1080_22.7.-23.7.-2023.jpg
END:VEVENT
BEGIN:VEVENT
DTSTART;TZID=Europe/Bratislava:20230715T130000
DTEND;TZID=Europe/Bratislava:20230716T140000
DTSTAMP:20260425T172309
CREATED:20230606T163211Z
LAST-MODIFIED:20230607T123551Z
UID:16334-1689426000-1689516000@aquacity.sk
SUMMARY:Summer program 15. - 16.7.2023
DESCRIPTION:15.7.2023 / SATURDAY\n13:00 Basketball Magician – Basketball show\, sports art with elements of entertainment \n16.7.2023 / SUNDAY\n13:00 Batida Drum show – Energy show with workshop\, rhythms inspired by Brazilian culture\n15:00 NEMO & DORY \n  \n\n			\n				\n			\n			\n				\n			\n		\n\n 
URL:https://aquacity.sk/en/event/summer-program-15-16-7-2023/
LOCATION:AquaCity Poprad / outdoor stage
ATTACH;FMTTYPE=image/jpeg:https://aquacity.sk/wp-content/uploads/2023/06/AquaCity_obrazovky_Letny_program_2023_1920x1080_15.7.-16.7.-2023.jpg
END:VEVENT
BEGIN:VEVENT
DTSTART;TZID=Europe/Bratislava:20230708T130000
DTEND;TZID=Europe/Bratislava:20230709T140000
DTSTAMP:20260425T172309
CREATED:20230606T161847Z
LAST-MODIFIED:20230607T123306Z
UID:16330-1688821200-1688911200@aquacity.sk
SUMMARY:Summer program 8.7. - 9.7.2023
DESCRIPTION:8.7.2023 / SATURDAY\n13:00 Smiles Fun for children of all kinds – singing\, dancing\, disco\, magic\, theatre\, games\, and especially an interactive song programme \n9.7.2023 / SUNDAY\n13:00 Ján Kočiš – Trial show Cyclotrial show of the World Champion\, acrobatic art and bike show\n15:00 MADAGASKAR \n  \n\n			\n				\n			\n			\n				\n			\n		\n\n 
URL:https://aquacity.sk/en/event/summer-program-8-7-9-7-2023/
LOCATION:AquaCity Poprad / outdoor stage
ATTACH;FMTTYPE=image/jpeg:https://aquacity.sk/wp-content/uploads/2023/06/AquaCity_obrazovky_Letny_program_2023_1920x1080_8.7.-9.7.-2023.jpg
END:VEVENT
BEGIN:VEVENT
DTSTART;TZID=Europe/Bratislava:20230701T130000
DTEND;TZID=Europe/Bratislava:20230702T140000
DTSTAMP:20260425T172309
CREATED:20230606T161234Z
LAST-MODIFIED:20240327T135512Z
UID:16322-1688216400-1688306400@aquacity.sk
SUMMARY:Summer program 1.7 - 2.7.2023
DESCRIPTION:1.7.2023 / SATURDAY\n13:00 Fairytale twins Tárajko and Popletajka – Great mini disco show and fun for children \n2.7.2023 / SUNDAY\n13:00 AquaCity Chemistry Show – Chemical reactions and experiments by Professor Hocus Pocus\n15:00 SWAN PATROL \n  \n 
URL:https://aquacity.sk/en/event/summer-program-1-7-2-7-2023/
LOCATION:AquaCity Poprad / outdoor stage
ATTACH;FMTTYPE=image/jpeg:https://aquacity.sk/wp-content/uploads/2023/06/AquaCity_obrazovky_Letny_program_2023_1920x1080_1.7.-2.7.-2023.jpg
END:VEVENT
END:VCALENDAR