BEGIN:VCALENDAR
VERSION:2.0
PRODID:-//AquaCity Poprad Slovakia - ECPv6.15.12.2//NONSGML v1.0//EN
CALSCALE:GREGORIAN
METHOD:PUBLISH
X-WR-CALNAME:AquaCity Poprad Slovakia
X-ORIGINAL-URL:https://aquacity.sk/en/
X-WR-CALDESC:Events for AquaCity Poprad Slovakia
REFRESH-INTERVAL;VALUE=DURATION:PT1H
X-Robots-Tag:noindex
X-PUBLISHED-TTL:PT1H
BEGIN:VTIMEZONE
TZID:Europe/Bratislava
BEGIN:DAYLIGHT
TZOFFSETFROM:+0100
TZOFFSETTO:+0200
TZNAME:CEST
DTSTART:20250330T010000
END:DAYLIGHT
BEGIN:STANDARD
TZOFFSETFROM:+0200
TZOFFSETTO:+0100
TZNAME:CET
DTSTART:20251026T010000
END:STANDARD
BEGIN:DAYLIGHT
TZOFFSETFROM:+0100
TZOFFSETTO:+0200
TZNAME:CEST
DTSTART:20260329T010000
END:DAYLIGHT
BEGIN:STANDARD
TZOFFSETFROM:+0200
TZOFFSETTO:+0100
TZNAME:CET
DTSTART:20261025T010000
END:STANDARD
BEGIN:DAYLIGHT
TZOFFSETFROM:+0100
TZOFFSETTO:+0200
TZNAME:CEST
DTSTART:20270328T010000
END:DAYLIGHT
BEGIN:STANDARD
TZOFFSETFROM:+0200
TZOFFSETTO:+0100
TZNAME:CET
DTSTART:20271031T010000
END:STANDARD
END:VTIMEZONE
BEGIN:VEVENT
DTSTART;TZID=Europe/Bratislava:20260606T170000
DTEND;TZID=Europe/Bratislava:20260606T230000
DTSTAMP:20260425T140711
CREATED:20260420T130333Z
LAST-MODIFIED:20260420T130814Z
UID:28860-1780765200-1780786800@aquacity.sk
SUMMARY:OLDIES PARTY by Rádio Vlna 6.6.2026
DESCRIPTION:OLDIES PARTY by Rádio VlnaTimeless hits are back \nWe invite all fans of great music and unforgettable atmosphere to a special evening at AquaCity Poprad. \nOn Saturday\, June 6\, 2026\, the outdoor area and Blue Sapphire pools will turn into a dance floor filled with the biggest hits from the 70s\, 80s\, and 90s. Expect a night full of music\, memories\, and energy that will take you back to the best times. \nThe atmosphere will be powered by special guest Sagvan Tofi\, host Milan Švikruha\, and DJ Peter Hurajt. \n🎧 Starts at 18:00🚪 Entry to the venue from 17:00 \nYour ticket includes:– entry to the Oldies Party by Rádio Vlna– access to all Aquapark pools until 20:00– after 20:00\, Blue Sapphire pools and the outdoor area remain open (weather permitting) \n🎟️ TICKET PRICES:– Early bird (until May 15\, 2026): 15 €– May 16 – June 5\, 2026: 20 €– On-site (June 6\, 2026): 25 € \nExperience a unique mix of music\, water\, and summer vibes. This won’t be just a party – it will be a return to the golden era. \nChildren under 5.99 years or under 120 cm: entry for 1 € \nTickets available here \n 
URL:https://aquacity.sk/en/event/oldiespartyradiavlna/
ATTACH;FMTTYPE=image/jpeg:https://aquacity.sk/wp-content/uploads/2026/04/Radio_Vlna_2026_1920x1080-scaled.jpg
END:VEVENT
END:VCALENDAR